BEGIN:VCALENDAR
VERSION:2.0
PRODID:-//Cass Health - ECPv6.15.19//NONSGML v1.0//EN
CALSCALE:GREGORIAN
METHOD:PUBLISH
X-WR-CALNAME:Cass Health
X-ORIGINAL-URL:https://www.casshealth.org
X-WR-CALDESC:Events for Cass Health
REFRESH-INTERVAL;VALUE=DURATION:PT1H
X-Robots-Tag:noindex
X-PUBLISHED-TTL:PT1H
BEGIN:VTIMEZONE
TZID:America/Chicago
BEGIN:DAYLIGHT
TZOFFSETFROM:-0600
TZOFFSETTO:-0500
TZNAME:CDT
DTSTART:20210314T080000
END:DAYLIGHT
BEGIN:STANDARD
TZOFFSETFROM:-0500
TZOFFSETTO:-0600
TZNAME:CST
DTSTART:20211107T070000
END:STANDARD
BEGIN:DAYLIGHT
TZOFFSETFROM:-0600
TZOFFSETTO:-0500
TZNAME:CDT
DTSTART:20220313T080000
END:DAYLIGHT
BEGIN:STANDARD
TZOFFSETFROM:-0500
TZOFFSETTO:-0600
TZNAME:CST
DTSTART:20221106T070000
END:STANDARD
BEGIN:DAYLIGHT
TZOFFSETFROM:-0600
TZOFFSETTO:-0500
TZNAME:CDT
DTSTART:20230312T080000
END:DAYLIGHT
BEGIN:STANDARD
TZOFFSETFROM:-0500
TZOFFSETTO:-0600
TZNAME:CST
DTSTART:20231105T070000
END:STANDARD
END:VTIMEZONE
BEGIN:VEVENT
DTSTART;TZID=America/Chicago:20221012T140000
DTEND;TZID=America/Chicago:20221012T180000
DTSTAMP:20260422T081059
CREATED:20221005T192415Z
LAST-MODIFIED:20221005T192416Z
UID:25462-1665583200-1665597600@www.casshealth.org
SUMMARY:Ayzlee's Family Flu Clinic
DESCRIPTION:Drive-up flu shots just for kids! \nIn memory of Ayzlee McCarthy\, members of the McCarthy family will be present and hand out special treats to kids. \nCall 712-243-2850 to schedule your child’s appointment to get their annual flu vaccine at our convenient drive-up location.
URL:https://www.casshealth.org/event/ayzlees-family-flu-clinic-3/
ATTACH;FMTTYPE=image/png:https://www.casshealth.org/wp-content/uploads/2022/10/AyzleesFamilyFluClinic-1-e1664997739334.png
END:VEVENT
END:VCALENDAR