BEGIN:VCALENDAR
VERSION:2.0
PRODID:-//Cass Health - ECPv6.15.19//NONSGML v1.0//EN
CALSCALE:GREGORIAN
METHOD:PUBLISH
X-ORIGINAL-URL:https://www.casshealth.org
X-WR-CALDESC:Events for Cass Health
REFRESH-INTERVAL;VALUE=DURATION:PT1H
X-Robots-Tag:noindex
X-PUBLISHED-TTL:PT1H
BEGIN:VTIMEZONE
TZID:America/Chicago
BEGIN:DAYLIGHT
TZOFFSETFROM:-0600
TZOFFSETTO:-0500
TZNAME:CDT
DTSTART:20170312T080000
END:DAYLIGHT
BEGIN:STANDARD
TZOFFSETFROM:-0500
TZOFFSETTO:-0600
TZNAME:CST
DTSTART:20171105T070000
END:STANDARD
BEGIN:DAYLIGHT
TZOFFSETFROM:-0600
TZOFFSETTO:-0500
TZNAME:CDT
DTSTART:20180311T080000
END:DAYLIGHT
BEGIN:STANDARD
TZOFFSETFROM:-0500
TZOFFSETTO:-0600
TZNAME:CST
DTSTART:20181104T070000
END:STANDARD
BEGIN:DAYLIGHT
TZOFFSETFROM:-0600
TZOFFSETTO:-0500
TZNAME:CDT
DTSTART:20190310T080000
END:DAYLIGHT
BEGIN:STANDARD
TZOFFSETFROM:-0500
TZOFFSETTO:-0600
TZNAME:CST
DTSTART:20191103T070000
END:STANDARD
END:VTIMEZONE
BEGIN:VEVENT
DTSTART;TZID=America/Chicago:20181220T190000
DTEND;TZID=America/Chicago:20181220T200000
DTSTAMP:20260420T115524
CREATED:20181214T154911Z
LAST-MODIFIED:20181214T154911Z
UID:1426-1545332400-1545336000@www.casshealth.org
SUMMARY:Breastfeeding Support Group
DESCRIPTION:Whether you’re a new or expecting mom\, come join our Breastfeeding Support Group. This group is lead by our Certified Lactation Counselors and other breastfeeding moms who can help answer questions and provide support. This group meets on the third Thursday of each month in Conference Room 6. \nQuestions? Call the OB Department at 712-250-8862.
URL:https://www.casshealth.org/event/breastfeeding-support-group/
LOCATION:Cass County Health System – Conference Room 6\, 1501 E 10th St\, Atlantic\, IA\, 50022\, United States
ATTACH;FMTTYPE=image/jpeg:https://www.casshealth.org/wp-content/uploads/2018/12/2019CampaignBabyBanner.jpg
END:VEVENT
END:VCALENDAR