BEGIN:VCALENDAR
VERSION:2.0
PRODID:-//Cass Health - ECPv6.15.19//NONSGML v1.0//EN
CALSCALE:GREGORIAN
METHOD:PUBLISH
X-ORIGINAL-URL:https://www.casshealth.org
X-WR-CALDESC:Events for Cass Health
REFRESH-INTERVAL;VALUE=DURATION:PT1H
X-Robots-Tag:noindex
X-PUBLISHED-TTL:PT1H
BEGIN:VTIMEZONE
TZID:America/Chicago
BEGIN:DAYLIGHT
TZOFFSETFROM:-0600
TZOFFSETTO:-0500
TZNAME:CDT
DTSTART:20210314T080000
END:DAYLIGHT
BEGIN:STANDARD
TZOFFSETFROM:-0500
TZOFFSETTO:-0600
TZNAME:CST
DTSTART:20211107T070000
END:STANDARD
BEGIN:DAYLIGHT
TZOFFSETFROM:-0600
TZOFFSETTO:-0500
TZNAME:CDT
DTSTART:20220313T080000
END:DAYLIGHT
BEGIN:STANDARD
TZOFFSETFROM:-0500
TZOFFSETTO:-0600
TZNAME:CST
DTSTART:20221106T070000
END:STANDARD
BEGIN:DAYLIGHT
TZOFFSETFROM:-0600
TZOFFSETTO:-0500
TZNAME:CDT
DTSTART:20230312T080000
END:DAYLIGHT
BEGIN:STANDARD
TZOFFSETFROM:-0500
TZOFFSETTO:-0600
TZNAME:CST
DTSTART:20231105T070000
END:STANDARD
BEGIN:DAYLIGHT
TZOFFSETFROM:-0600
TZOFFSETTO:-0500
TZNAME:CDT
DTSTART:20240310T080000
END:DAYLIGHT
BEGIN:STANDARD
TZOFFSETFROM:-0500
TZOFFSETTO:-0600
TZNAME:CST
DTSTART:20241103T070000
END:STANDARD
END:VTIMEZONE
BEGIN:VEVENT
DTSTART;TZID=America/Chicago:20221213T190000
DTEND;TZID=America/Chicago:20221213T200000
DTSTAMP:20260422T184518
CREATED:20220513T204746Z
LAST-MODIFIED:20221128T133718Z
UID:21310-1670958000-1670961600@www.casshealth.org
SUMMARY:Siblings Class
DESCRIPTION:Expecting moms and dads with young children are invited to participate in a Siblings Class at Cass Health on Tuesday\, December 13th at 7 pm.\nThis 1 hour class is geared toward children between the ages of 2 and 10. Children are welcome to attend with their mother who is at or past 34 weeks of pregnancy.\nThe class includes hands-on activities like swaddling\, feeding\, diapering\, and holding a newborn. All kids who participate will receive a special certificate and their very own teddy bear.\nReservations are required for the Siblings Class; please call the Cass Health OB Department at 712-250-8862.
URL:https://www.casshealth.org/event/siblings-class-5/
LOCATION:Cass Health\, 1501 E 10th St\, Atlantic\, IA\, 50022\, United States
ATTACH;FMTTYPE=image/png:https://www.casshealth.org/wp-content/uploads/2022/05/Summer-Siblings-Class-220-×-220-px-2.png
END:VEVENT
BEGIN:VEVENT
DTSTART;TZID=America/Chicago:20221215T070000
DTEND;TZID=America/Chicago:20221215T170000
DTSTAMP:20260422T184518
CREATED:20221205T173626Z
LAST-MODIFIED:20221205T173628Z
UID:26523-1671087600-1671123600@www.casshealth.org
SUMMARY:Auxiliary Holiday Baked Goods & White Elephant Sale
DESCRIPTION:
URL:https://www.casshealth.org/event/auxiliary-holiday-baked-goods-white-elephant-sale/
LOCATION:Cass County Health System – Conference Room 2\, 1501 E 10th St\, Atlantic\, IA\, 50022\, United States
ATTACH;FMTTYPE=image/png:https://www.casshealth.org/wp-content/uploads/2022/12/Aux-White-Elephant-Vine-Instagram-Post-Square.png
ORGANIZER;CN="Cass Health Auxiliary":MAILTO:spibe@casshealth.org
END:VEVENT
BEGIN:VEVENT
DTSTART;TZID=America/Chicago:20230613T190000
DTEND;TZID=America/Chicago:20230613T200000
DTSTAMP:20260422T184518
CREATED:20230222T222031Z
LAST-MODIFIED:20230519T201437Z
UID:28529-1686682800-1686686400@www.casshealth.org
SUMMARY:Siblings Class
DESCRIPTION:Expecting moms and dads with young children are invited to participate in a Siblings Class at Cass Health on Tuesday\, June 13th  at 7 pm.\nThis 1 hour class is geared toward children between the ages of 2 and 10. Children are welcome to attend with their mother who is at or past 34 weeks of pregnancy.\nThe class includes hands-on activities like swaddling\, feeding\, diapering\, and holding a newborn. All kids who participate will receive a special certificate and their very own teddy bear.\nReservations are required for the Siblings Class; please call the Cass Health OB Department at 712-250-8862.
URL:https://www.casshealth.org/event/siblings-class-6/
LOCATION:Cass Health\, 1501 E 10th St\, Atlantic\, IA\, 50022\, United States
ATTACH;FMTTYPE=image/png:https://www.casshealth.org/wp-content/uploads/2023/02/Summer-Siblings-Class-220-×-220-px.png
END:VEVENT
END:VCALENDAR