BEGIN:VCALENDAR
VERSION:2.0
PRODID:-//Cass Health - ECPv6.15.19//NONSGML v1.0//EN
CALSCALE:GREGORIAN
METHOD:PUBLISH
X-WR-CALNAME:Cass Health
X-ORIGINAL-URL:https://www.casshealth.org
X-WR-CALDESC:Events for Cass Health
REFRESH-INTERVAL;VALUE=DURATION:PT1H
X-Robots-Tag:noindex
X-PUBLISHED-TTL:PT1H
BEGIN:VTIMEZONE
TZID:America/Chicago
BEGIN:DAYLIGHT
TZOFFSETFROM:-0600
TZOFFSETTO:-0500
TZNAME:CDT
DTSTART:20180311T080000
END:DAYLIGHT
BEGIN:STANDARD
TZOFFSETFROM:-0500
TZOFFSETTO:-0600
TZNAME:CST
DTSTART:20181104T070000
END:STANDARD
BEGIN:DAYLIGHT
TZOFFSETFROM:-0600
TZOFFSETTO:-0500
TZNAME:CDT
DTSTART:20190310T080000
END:DAYLIGHT
BEGIN:STANDARD
TZOFFSETFROM:-0500
TZOFFSETTO:-0600
TZNAME:CST
DTSTART:20191103T070000
END:STANDARD
BEGIN:DAYLIGHT
TZOFFSETFROM:-0600
TZOFFSETTO:-0500
TZNAME:CDT
DTSTART:20200308T080000
END:DAYLIGHT
BEGIN:STANDARD
TZOFFSETFROM:-0500
TZOFFSETTO:-0600
TZNAME:CST
DTSTART:20201101T070000
END:STANDARD
END:VTIMEZONE
BEGIN:VEVENT
DTSTART;TZID=America/Chicago:20190330T180000
DTEND;TZID=America/Chicago:20190330T233000
DTSTAMP:20260420T044205
CREATED:20190220T151520Z
LAST-MODIFIED:20190220T151520Z
UID:2580-1553968800-1553988600@www.casshealth.org
SUMMARY:2019 CCHS Foundation Gala - "A Night at the Masquerade!"
DESCRIPTION:It’s time to get ready for the best party of the year — A Night at the Masquerade! \nThe CCHS Foundation is hosting their annual gala on Saturday\, March 30th\, and we invite you to join us! The evening includes dinner\, drinks\, dessert auction\, and entertainment. (This year’s entertainment is The Newlywed Game!) Masquerade dress is encouraged; gowns\, suits\, and masks\, of course! \nThis event is one part of our 2019 Campaign to raise funds for a “bundle for OB.” This precious bundle includes a new infant warmer\, three hand-held ultrasound devices\, and a surgical table.You can donate online or read more about the campaign here: https://www.casshealth.org/donors/2019-campaign/ \n\nTickets for this exclusive event are limited! Reserve your spots today by becoming a sponsor. Call Dawn Marnin at 712-243-7409 for the details. It’s a great event for a great cause!
URL:https://www.casshealth.org/event/2019-cchs-foundation-gala-a-night-at-the-masquerade/
LOCATION:Atlantic Golf & Country Club
ATTACH;FMTTYPE=image/jpeg:https://www.casshealth.org/wp-content/uploads/2019/02/Cass-County-Health-System-Foundation-2019-Gala-Atlantic-Golf-Country-Club-For-more-information-please-call-Dawn-Marnin-CCHS-Foundation-Director-at-712-243-7409..jpg
ORGANIZER;CN="Cass Health Foundation":MAILTO:mardd@casshealth.org
END:VEVENT
END:VCALENDAR